BEGIN:VCALENDAR
VERSION:2.0
CALSCALE:GREGORIAN
BEGIN:VEVENT
URL:https://www.learndesk.us/class/6005599626067968/lesson/9a21a97ea457d309bc8ffb5e173081d0?ref=outlook-calendar
SUMMARY:Model Question-2
DTSTART;TZID=America/Los_Angeles:20260421T190000
DTEND;TZID=America/Los_Angeles:20260421T200000
LOCATION:https://www.learndesk.us/class/6005599626067968/lesson/9a21a97ea457d309bc8ffb5e173081d0?ref=outlook-calendar
DESCRIPTION: https://www.learndesk.us/class/6005599626067968/lesson/9a21a97ea457d309bc8ffb5e173081d0?ref=outlook-calendar
STATUS:CONFIRMED
SEQUENCE:3
BEGIN:VALARM
TRIGGER:-PT10M
DESCRIPTION:Class Reminder
ACTION:DISPLAY
END:VALARM
END:VEVENT
END:VCALENDAR