BEGIN:VCALENDAR
VERSION:2.0
CALSCALE:GREGORIAN
BEGIN:VEVENT
URL:https://www.learndesk.us/class/6005599626067968/lesson/775e072e56510e1c89d6d82f58c6ac16?ref=outlook-calendar
SUMMARY:Model Question-3
DTSTART;TZID=America/Los_Angeles:20260421T190000
DTEND;TZID=America/Los_Angeles:20260421T200000
LOCATION:https://www.learndesk.us/class/6005599626067968/lesson/775e072e56510e1c89d6d82f58c6ac16?ref=outlook-calendar
DESCRIPTION: https://www.learndesk.us/class/6005599626067968/lesson/775e072e56510e1c89d6d82f58c6ac16?ref=outlook-calendar
STATUS:CONFIRMED
SEQUENCE:3
BEGIN:VALARM
TRIGGER:-PT10M
DESCRIPTION:Class Reminder
ACTION:DISPLAY
END:VALARM
END:VEVENT
END:VCALENDAR