BEGIN:VCALENDAR
VERSION:2.0
CALSCALE:GREGORIAN
BEGIN:VEVENT
URL:https://www.learndesk.us/class/6005599626067968/lesson/0e739b10b44df55978e598dbacd79b9b?ref=outlook-calendar
SUMMARY:Model Question-4
DTSTART;TZID=America/Los_Angeles:20260421T190000
DTEND;TZID=America/Los_Angeles:20260421T200000
LOCATION:https://www.learndesk.us/class/6005599626067968/lesson/0e739b10b44df55978e598dbacd79b9b?ref=outlook-calendar
DESCRIPTION: https://www.learndesk.us/class/6005599626067968/lesson/0e739b10b44df55978e598dbacd79b9b?ref=outlook-calendar
STATUS:CONFIRMED
SEQUENCE:3
BEGIN:VALARM
TRIGGER:-PT10M
DESCRIPTION:Class Reminder
ACTION:DISPLAY
END:VALARM
END:VEVENT
END:VCALENDAR