BEGIN:VCALENDAR
VERSION:2.0
CALSCALE:GREGORIAN
BEGIN:VEVENT
URL:https://www.learndesk.us/class/6005599626067968/learn-reasoning-maths-in-fun-way-with-animation?ref=outlook-calendar
SUMMARY:Learn Reasoning Maths in Fun Way With Animation
DTSTART;TZID=America/Los_Angeles:20260421T190000
DTEND;TZID=America/Los_Angeles:20260421T200000
LOCATION:https://www.learndesk.us/class/6005599626067968/learn-reasoning-maths-in-fun-way-with-animation?ref=outlook-calendar
DESCRIPTION: 

The reasoning subject is very useful for higher studies entrance exams, placement exams and most of the organizations will select the employees based on reasoning and quantitative aptitude test only.
Benefits of quantitative aptitude course:

Total of 25 topics more than 26 hours of video animated digital classes
Each topic minimum of 60 minutes of duration
All classes in animation with background vocals
Script and content by professionals in the related subject
Our quality and content will interact with the students
Our videos even kids can understand better
Not comparable with another product in the market
These classes are enough to crack the IBPS, private and govt jobs

Reasoning chapters list:


Directions


Clocks and calendar


Coding-decoding 


Alphabet test 


Word formation 


Number ranking 


Input-output 


Arithmetic operations 


Puzzles


Number series 


Data sufficiency 


Statement and conclusions 


Syllogism 


Blood relations 


Letter series 


Sitting...

https://www.learndesk.us/class/6005599626067968/learn-reasoning-maths-in-fun-way-with-animation?ref=outlook-calendar
STATUS:CONFIRMED
SEQUENCE:3
BEGIN:VALARM
TRIGGER:-PT10M
DESCRIPTION:Class Reminder
ACTION:DISPLAY
END:VALARM
END:VEVENT
END:VCALENDAR