BEGIN:VCALENDAR
VERSION:2.0
CALSCALE:GREGORIAN
BEGIN:VEVENT
URL:https://www.learndesk.us/class/6004646025887744/lesson/141f5d5415a5b74998fd77483fc9e93e?ref=outlook-calendar
SUMMARY:Types of Databases
DTSTART;TZID=America/Los_Angeles:20260421T190000
DTEND;TZID=America/Los_Angeles:20260421T200000
LOCATION:https://www.learndesk.us/class/6004646025887744/lesson/141f5d5415a5b74998fd77483fc9e93e?ref=outlook-calendar
DESCRIPTION: Various Databases such as PDB, ZINC and other databases to retrieve the information for Drug Design has been discussed

https://www.learndesk.us/class/6004646025887744/lesson/141f5d5415a5b74998fd77483fc9e93e?ref=outlook-calendar
STATUS:CONFIRMED
SEQUENCE:3
BEGIN:VALARM
TRIGGER:-PT10M
DESCRIPTION:Class Reminder
ACTION:DISPLAY
END:VALARM
END:VEVENT
END:VCALENDAR