BEGIN:VCALENDAR
VERSION:2.0
CALSCALE:GREGORIAN
BEGIN:VEVENT
URL:https://www.learndesk.us/class/6001375357960192/lesson/ff49d58a1015596beff5c7b3da3529c9?ref=outlook-calendar
SUMMARY:Opener:  Neutralizing Distractions
DTSTART;TZID=America/Los_Angeles:20260422T190000
DTEND;TZID=America/Los_Angeles:20260422T200000
LOCATION:https://www.learndesk.us/class/6001375357960192/lesson/ff49d58a1015596beff5c7b3da3529c9?ref=outlook-calendar
DESCRIPTION: When attendees come into your session, they often are distracted by other things on their minds. This short exercise will help them quickly clear away the distractions and get ready for your session.

https://www.learndesk.us/class/6001375357960192/lesson/ff49d58a1015596beff5c7b3da3529c9?ref=outlook-calendar
STATUS:CONFIRMED
SEQUENCE:3
BEGIN:VALARM
TRIGGER:-PT10M
DESCRIPTION:Class Reminder
ACTION:DISPLAY
END:VALARM
END:VEVENT
END:VCALENDAR