BEGIN:VCALENDAR
VERSION:2.0
CALSCALE:GREGORIAN
BEGIN:VEVENT
URL:https://www.learndesk.us/class/6001375357960192/lesson/fc938dc9f3d4a235c5b55ea3b8731a12?ref=outlook-calendar
SUMMARY:Opening Activity:  A "Puzzling" Conversation
DTSTART;TZID=America/Los_Angeles:20260422T190000
DTEND;TZID=America/Los_Angeles:20260422T200000
LOCATION:https://www.learndesk.us/class/6001375357960192/lesson/fc938dc9f3d4a235c5b55ea3b8731a12?ref=outlook-calendar
DESCRIPTION: 
I've used this exercise many times to grab my attendees' attention as soon as they walk in the door. 
Instead of starting off slowly and sluggishly, your session starts off energetically and sets the expectation that it will be different from others your participants have attended.


https://www.learndesk.us/class/6001375357960192/lesson/fc938dc9f3d4a235c5b55ea3b8731a12?ref=outlook-calendar
STATUS:CONFIRMED
SEQUENCE:3
BEGIN:VALARM
TRIGGER:-PT10M
DESCRIPTION:Class Reminder
ACTION:DISPLAY
END:VALARM
END:VEVENT
END:VCALENDAR