BEGIN:VCALENDAR
VERSION:2.0
CALSCALE:GREGORIAN
BEGIN:VEVENT
URL:https://www.learndesk.us/class/6001375357960192/lesson/f62851b94686390b1cc9f89167f5fb77?ref=outlook-calendar
SUMMARY:Human Bingo
DTSTART;TZID=America/Los_Angeles:20260420T190000
DTEND;TZID=America/Los_Angeles:20260420T200000
LOCATION:https://www.learndesk.us/class/6001375357960192/lesson/f62851b94686390b1cc9f89167f5fb77?ref=outlook-calendar
DESCRIPTION: 
Human Bingo is a great exercise to use in situations where people will be working together extensively over the course of a day or several days and also when you want to encourage networking among the attendees.
If collaboration and connection are an important part of your strategy, you’ll want to get people interacting as soon as possible. Human BIngo is easily adaptable to any group.


https://www.learndesk.us/class/6001375357960192/lesson/f62851b94686390b1cc9f89167f5fb77?ref=outlook-calendar
STATUS:CONFIRMED
SEQUENCE:3
BEGIN:VALARM
TRIGGER:-PT10M
DESCRIPTION:Class Reminder
ACTION:DISPLAY
END:VALARM
END:VEVENT
END:VCALENDAR