BEGIN:VCALENDAR
VERSION:2.0
CALSCALE:GREGORIAN
BEGIN:VEVENT
URL:https://www.learndesk.us/class/6001375357960192/lesson/df2df9fad5dfa914a16b1c0f209195d8?ref=outlook-calendar
SUMMARY:How To Effectively Use An Easel Chart to Capture Attendee Input During a Discussion
DTSTART;TZID=America/Los_Angeles:20260422T190000
DTEND;TZID=America/Los_Angeles:20260422T200000
LOCATION:https://www.learndesk.us/class/6001375357960192/lesson/df2df9fad5dfa914a16b1c0f209195d8?ref=outlook-calendar
DESCRIPTION: This lesson is about facilitating discussion, getting participants engaged, and using the flipchart as an aid to capturing the information.

https://www.learndesk.us/class/6001375357960192/lesson/df2df9fad5dfa914a16b1c0f209195d8?ref=outlook-calendar
STATUS:CONFIRMED
SEQUENCE:3
BEGIN:VALARM
TRIGGER:-PT10M
DESCRIPTION:Class Reminder
ACTION:DISPLAY
END:VALARM
END:VEVENT
END:VCALENDAR