BEGIN:VCALENDAR
VERSION:2.0
CALSCALE:GREGORIAN
BEGIN:VEVENT
URL:https://www.learndesk.us/class/6001375357960192/lesson/c20e251490e3506d1bccc2e2904c10c3?ref=outlook-calendar
SUMMARY:What If My Technology/PowerPoint Crashes?
DTSTART;TZID=America/Los_Angeles:20260420T190000
DTEND;TZID=America/Los_Angeles:20260420T200000
LOCATION:https://www.learndesk.us/class/6001375357960192/lesson/c20e251490e3506d1bccc2e2904c10c3?ref=outlook-calendar
DESCRIPTION: It can be your worst nightmare -- being dependent on your PowerPoint slides and having your laptop crash! Having a backup plan is an important part of the planning process. This lesson gives you a few helpful strategies.

https://www.learndesk.us/class/6001375357960192/lesson/c20e251490e3506d1bccc2e2904c10c3?ref=outlook-calendar
STATUS:CONFIRMED
SEQUENCE:3
BEGIN:VALARM
TRIGGER:-PT10M
DESCRIPTION:Class Reminder
ACTION:DISPLAY
END:VALARM
END:VEVENT
END:VCALENDAR