BEGIN:VCALENDAR
VERSION:2.0
CALSCALE:GREGORIAN
BEGIN:VEVENT
URL:https://www.learndesk.us/class/6001375357960192/lesson/b73f2f39a487619f1ebca70a32296270?ref=outlook-calendar
SUMMARY:7 Easy Strategies for Asking Questions
DTSTART;TZID=America/Los_Angeles:20260420T190000
DTEND;TZID=America/Los_Angeles:20260420T200000
LOCATION:https://www.learndesk.us/class/6001375357960192/lesson/b73f2f39a487619f1ebca70a32296270?ref=outlook-calendar
DESCRIPTION: If you're a relatively new presenter, you may have been told that you should get your session participants involved by asking them questions. But what should you be asking? This lesson gives you 7 easy strategies for coming up with questions that engage your audiences.

https://www.learndesk.us/class/6001375357960192/lesson/b73f2f39a487619f1ebca70a32296270?ref=outlook-calendar
STATUS:CONFIRMED
SEQUENCE:3
BEGIN:VALARM
TRIGGER:-PT10M
DESCRIPTION:Class Reminder
ACTION:DISPLAY
END:VALARM
END:VEVENT
END:VCALENDAR