BEGIN:VCALENDAR
VERSION:2.0
CALSCALE:GREGORIAN
BEGIN:VEVENT
URL:https://www.learndesk.us/class/6001375357960192/lesson/4abea3866b1c0c8b119806be273cffb0?ref=outlook-calendar
SUMMARY:19 Strategies for Handling Difficult Situations
DTSTART;TZID=America/Los_Angeles:20260422T190000
DTEND;TZID=America/Los_Angeles:20260422T200000
LOCATION:https://www.learndesk.us/class/6001375357960192/lesson/4abea3866b1c0c8b119806be273cffb0?ref=outlook-calendar
DESCRIPTION: Difficult situations - circumstances that interfere with the success of your session are bound to come up. Here are 19 general strategies to deal with them. Check out the other lessons in this section for strategies you can apply to specific difficult situations.

https://www.learndesk.us/class/6001375357960192/lesson/4abea3866b1c0c8b119806be273cffb0?ref=outlook-calendar
STATUS:CONFIRMED
SEQUENCE:3
BEGIN:VALARM
TRIGGER:-PT10M
DESCRIPTION:Class Reminder
ACTION:DISPLAY
END:VALARM
END:VEVENT
END:VCALENDAR