BEGIN:VCALENDAR
VERSION:2.0
CALSCALE:GREGORIAN
BEGIN:VEVENT
URL:https://www.learndesk.us/class/6001375357960192/lesson/4239ca83289d67b47f9f4b2d4373fb72?ref=outlook-calendar
SUMMARY:Two Truths and A Lie
DTSTART;TZID=America/Los_Angeles:20260422T190000
DTEND;TZID=America/Los_Angeles:20260422T200000
LOCATION:https://www.learndesk.us/class/6001375357960192/lesson/4239ca83289d67b47f9f4b2d4373fb72?ref=outlook-calendar
DESCRIPTION: A fun activity that allows attendees to get to know each other a little better, even if they think they know each other well.

https://www.learndesk.us/class/6001375357960192/lesson/4239ca83289d67b47f9f4b2d4373fb72?ref=outlook-calendar
STATUS:CONFIRMED
SEQUENCE:3
BEGIN:VALARM
TRIGGER:-PT10M
DESCRIPTION:Class Reminder
ACTION:DISPLAY
END:VALARM
END:VEVENT
END:VCALENDAR