BEGIN:VCALENDAR
VERSION:2.0
CALSCALE:GREGORIAN
BEGIN:VEVENT
URL:https://www.learndesk.us/class/6001375357960192/lesson/2363eaeb52250547d2e065bc0c2e7200?ref=outlook-calendar
SUMMARY:How To Switch On The 5 Adult Learning Principles
DTSTART;TZID=America/Los_Angeles:20260420T190000
DTEND;TZID=America/Los_Angeles:20260420T200000
LOCATION:https://www.learndesk.us/class/6001375357960192/lesson/2363eaeb52250547d2e065bc0c2e7200?ref=outlook-calendar
DESCRIPTION: 
Whether you call it a talk, workshop, presentation, retreat, or training session, the foundation of a great one is Adult Learning Principles -- what adults need, want, and like in a session for it to be effective for them. 
The Adult Learning Principles are surprisingly simple and once you know them, you'll have a whole new perspective on how to design your sessions. You'll never design a session the same way again. 


https://www.learndesk.us/class/6001375357960192/lesson/2363eaeb52250547d2e065bc0c2e7200?ref=outlook-calendar
STATUS:CONFIRMED
SEQUENCE:3
BEGIN:VALARM
TRIGGER:-PT10M
DESCRIPTION:Class Reminder
ACTION:DISPLAY
END:VALARM
END:VEVENT
END:VCALENDAR