BEGIN:VCALENDAR
VERSION:2.0
CALSCALE:GREGORIAN
BEGIN:VEVENT
URL:https://www.learndesk.us/class/6001375357960192/lesson/1d11757303f3d4d199cb7d04f3f17bf9?ref=outlook-calendar
SUMMARY:3 Mistakes That Presenters Make That Keep Their Audiences Bored, Restless, and Disengaged
DTSTART;TZID=America/Los_Angeles:20260420T190000
DTEND;TZID=America/Los_Angeles:20260420T200000
LOCATION:https://www.learndesk.us/class/6001375357960192/lesson/1d11757303f3d4d199cb7d04f3f17bf9?ref=outlook-calendar
DESCRIPTION: 
One of the worries that keep new presenters up at night is the thought of boring their audiences.
In this lesson, you'll learn about 3 mistakes that even experienced presenters make that cause boredom, restlessness, and disengagement in their audiences. More importantly, you'll learn what to do about them.


https://www.learndesk.us/class/6001375357960192/lesson/1d11757303f3d4d199cb7d04f3f17bf9?ref=outlook-calendar
STATUS:CONFIRMED
SEQUENCE:3
BEGIN:VALARM
TRIGGER:-PT10M
DESCRIPTION:Class Reminder
ACTION:DISPLAY
END:VALARM
END:VEVENT
END:VCALENDAR