BEGIN:VCALENDAR
VERSION:2.0
CALSCALE:GREGORIAN
BEGIN:VEVENT
URL:https://www.learndesk.us/class/6001375357960192/how-to-add-sizzle-to-your-workshops-talks-and-retreat-sessions?ref=outlook-calendar
SUMMARY:How to Add Sizzle to Your Workshops, Talks, and Retreat Sessions
DTSTART;TZID=America/Los_Angeles:20260420T190000
DTEND;TZID=America/Los_Angeles:20260420T200000
LOCATION:https://www.learndesk.us/class/6001375357960192/how-to-add-sizzle-to-your-workshops-talks-and-retreat-sessions?ref=outlook-calendar
DESCRIPTION: 
Kick your sessions up a notch without re-designing your whole session from scratch!
Also known as The Lab at Engaging Talks and Workshops, this program is your go-to resource of 36 short bite-sized lessons that give you strategies and answers to many of the questions you have once you have a little experience leading workshops, talks, training sessions, and retreat sessions.
You'll find answers to questions such as:

How do I get my audience members to participate?
How do I know how long my session takes?
How do I know what questions to ask?
What if there's a heckler in the audience?
How do I get rid of my butterflies, sweaty palms, and palpitating heart?
What if my tech crashes?
How do I avoid boring my audience?
and much much more

All these strategies have been used again and again. Find just the right strategies to make your talk or workshop as impressive and effective as it can be.



https://www.learndesk.us/class/6001375357960192/how-to-add-sizzle-to-your-workshops-talks-and-retreat-sessions?ref=outlook-calendar
STATUS:CONFIRMED
SEQUENCE:3
BEGIN:VALARM
TRIGGER:-PT10M
DESCRIPTION:Class Reminder
ACTION:DISPLAY
END:VALARM
END:VEVENT
END:VCALENDAR