BEGIN:VCALENDAR
VERSION:2.0
CALSCALE:GREGORIAN
BEGIN:VEVENT
URL:https://www.learndesk.us/class/5990135751507968/lesson/f10b13799f6b34471457af9de61b5c1c?ref=outlook-calendar
SUMMARY:Using Java Module
DTSTART;TZID=America/Los_Angeles:20260421T190000
DTEND;TZID=America/Los_Angeles:20260421T200000
LOCATION:https://www.learndesk.us/class/5990135751507968/lesson/f10b13799f6b34471457af9de61b5c1c?ref=outlook-calendar
DESCRIPTION: https://www.learndesk.us/class/5990135751507968/lesson/f10b13799f6b34471457af9de61b5c1c?ref=outlook-calendar
STATUS:CONFIRMED
SEQUENCE:3
BEGIN:VALARM
TRIGGER:-PT10M
DESCRIPTION:Class Reminder
ACTION:DISPLAY
END:VALARM
END:VEVENT
END:VCALENDAR