BEGIN:VCALENDAR
VERSION:2.0
CALSCALE:GREGORIAN
BEGIN:VEVENT
URL:https://www.learndesk.us/class/5990135751507968/lesson/936f6f6b2192c704c9a6900d5b9428c3?ref=outlook-calendar
SUMMARY:Understanding and deploying to Cloudhub
DTSTART;TZID=America/Los_Angeles:20260421T190000
DTEND;TZID=America/Los_Angeles:20260421T200000
LOCATION:https://www.learndesk.us/class/5990135751507968/lesson/936f6f6b2192c704c9a6900d5b9428c3?ref=outlook-calendar
DESCRIPTION: Students will understand about iPaas and Cloud hub, business groups, creating roles and users,etc. How to deploy applications on cloud hub

https://www.learndesk.us/class/5990135751507968/lesson/936f6f6b2192c704c9a6900d5b9428c3?ref=outlook-calendar
STATUS:CONFIRMED
SEQUENCE:3
BEGIN:VALARM
TRIGGER:-PT10M
DESCRIPTION:Class Reminder
ACTION:DISPLAY
END:VALARM
END:VEVENT
END:VCALENDAR