BEGIN:VCALENDAR
VERSION:2.0
CALSCALE:GREGORIAN
BEGIN:VEVENT
URL:https://www.learndesk.us/class/5990135751507968/lesson/72363d79c7c038c16c32edf5b26db2b7?ref=outlook-calendar
SUMMARY:Using Database Endpoint to fire queries on Database
DTSTART;TZID=America/Los_Angeles:20260421T190000
DTEND;TZID=America/Los_Angeles:20260421T200000
LOCATION:https://www.learndesk.us/class/5990135751507968/lesson/72363d79c7c038c16c32edf5b26db2b7?ref=outlook-calendar
DESCRIPTION: https://www.learndesk.us/class/5990135751507968/lesson/72363d79c7c038c16c32edf5b26db2b7?ref=outlook-calendar
STATUS:CONFIRMED
SEQUENCE:3
BEGIN:VALARM
TRIGGER:-PT10M
DESCRIPTION:Class Reminder
ACTION:DISPLAY
END:VALARM
END:VEVENT
END:VCALENDAR