BEGIN:VCALENDAR
VERSION:2.0
CALSCALE:GREGORIAN
BEGIN:VEVENT
URL:https://www.learndesk.us/class/5990135751507968/lesson/4b918f4ceb7f711bc16a174d853b45c9?ref=outlook-calendar
SUMMARY:Mule Basics Part 2
DTSTART;TZID=America/Los_Angeles:20260421T190000
DTEND;TZID=America/Los_Angeles:20260421T200000
LOCATION:https://www.learndesk.us/class/5990135751507968/lesson/4b918f4ceb7f711bc16a174d853b45c9?ref=outlook-calendar
DESCRIPTION: https://www.learndesk.us/class/5990135751507968/lesson/4b918f4ceb7f711bc16a174d853b45c9?ref=outlook-calendar
STATUS:CONFIRMED
SEQUENCE:3
BEGIN:VALARM
TRIGGER:-PT10M
DESCRIPTION:Class Reminder
ACTION:DISPLAY
END:VALARM
END:VEVENT
END:VCALENDAR