BEGIN:VCALENDAR
VERSION:2.0
CALSCALE:GREGORIAN
BEGIN:VEVENT
URL:https://www.learndesk.us/class/5990135751507968/lesson/3e32c5f6994d37072832ba3bdb3f65f0?ref=outlook-calendar
SUMMARY:Understanding Runtime Manager and Managing server through Runtime Manager
DTSTART;TZID=America/Los_Angeles:20260421T190000
DTEND;TZID=America/Los_Angeles:20260421T200000
LOCATION:https://www.learndesk.us/class/5990135751507968/lesson/3e32c5f6994d37072832ba3bdb3f65f0?ref=outlook-calendar
DESCRIPTION: https://www.learndesk.us/class/5990135751507968/lesson/3e32c5f6994d37072832ba3bdb3f65f0?ref=outlook-calendar
STATUS:CONFIRMED
SEQUENCE:3
BEGIN:VALARM
TRIGGER:-PT10M
DESCRIPTION:Class Reminder
ACTION:DISPLAY
END:VALARM
END:VEVENT
END:VCALENDAR