BEGIN:VCALENDAR
VERSION:2.0
CALSCALE:GREGORIAN
BEGIN:VEVENT
URL:https://www.learndesk.us/class/5990135751507968/lesson/2826c03b12ec32a1a11fa92db7f66f10?ref=outlook-calendar
SUMMARY:Handling Exceptions in Mule4
DTSTART;TZID=America/Los_Angeles:20260421T190000
DTEND;TZID=America/Los_Angeles:20260421T200000
LOCATION:https://www.learndesk.us/class/5990135751507968/lesson/2826c03b12ec32a1a11fa92db7f66f10?ref=outlook-calendar
DESCRIPTION: https://www.learndesk.us/class/5990135751507968/lesson/2826c03b12ec32a1a11fa92db7f66f10?ref=outlook-calendar
STATUS:CONFIRMED
SEQUENCE:3
BEGIN:VALARM
TRIGGER:-PT10M
DESCRIPTION:Class Reminder
ACTION:DISPLAY
END:VALARM
END:VEVENT
END:VCALENDAR