BEGIN:VCALENDAR
VERSION:2.0
CALSCALE:GREGORIAN
BEGIN:VEVENT
URL:https://www.learndesk.us/class/5990135751507968/lesson/2224774bcb3baee01ed8eb885468761b?ref=outlook-calendar
SUMMARY:Api led connectivity and RAML Design
DTSTART;TZID=America/Los_Angeles:20260421T190000
DTEND;TZID=America/Los_Angeles:20260421T200000
LOCATION:https://www.learndesk.us/class/5990135751507968/lesson/2224774bcb3baee01ed8eb885468761b?ref=outlook-calendar
DESCRIPTION: Students will understand about API Led Connectivity and will understand to design RAML

https://www.learndesk.us/class/5990135751507968/lesson/2224774bcb3baee01ed8eb885468761b?ref=outlook-calendar
STATUS:CONFIRMED
SEQUENCE:3
BEGIN:VALARM
TRIGGER:-PT10M
DESCRIPTION:Class Reminder
ACTION:DISPLAY
END:VALARM
END:VEVENT
END:VCALENDAR