BEGIN:VCALENDAR
VERSION:2.0
CALSCALE:GREGORIAN
BEGIN:VEVENT
URL:https://www.learndesk.us/class/5990135751507968/lesson/02fd2fce28ca8d0e14a50b3f0489093e?ref=outlook-calendar
SUMMARY:Lab and Documents
DTSTART;TZID=America/Los_Angeles:20260421T190000
DTEND;TZID=America/Los_Angeles:20260421T200000
LOCATION:https://www.learndesk.us/class/5990135751507968/lesson/02fd2fce28ca8d0e14a50b3f0489093e?ref=outlook-calendar
DESCRIPTION: Please download all documents for doing lab exercises from the below URL: 
http://resources.way2learnonline.com/mule4way2learn/labs.zip

https://www.learndesk.us/class/5990135751507968/lesson/02fd2fce28ca8d0e14a50b3f0489093e?ref=outlook-calendar
STATUS:CONFIRMED
SEQUENCE:3
BEGIN:VALARM
TRIGGER:-PT10M
DESCRIPTION:Class Reminder
ACTION:DISPLAY
END:VALARM
END:VEVENT
END:VCALENDAR