BEGIN:VCALENDAR
VERSION:2.0
CALSCALE:GREGORIAN
BEGIN:VEVENT
URL:https://www.learndesk.us/class/5990135751507968/mule-4-indepth?ref=outlook-calendar
SUMMARY:Mule 4 Indepth
DTSTART;TZID=America/Los_Angeles:20260421T190000
DTEND;TZID=America/Los_Angeles:20260421T200000
LOCATION:https://www.learndesk.us/class/5990135751507968/mule-4-indepth?ref=outlook-calendar
DESCRIPTION: 
At the end of my course, students will be able to work on mule 4 confidently by knowing its internals in detail. This course will assume zero knowledge of integration and mule. It starts with basics and takes participants to advanced levels. You don't need to have any knowledge about mule 3 or earlier versions.
ESB introduction:

Problems of point to point integration
What is an ESB?
How an ESB helps in solving problems with P2P integration
The idea behind an ESB. How does it work?
What is orchestration?
What is a mule?
What is the Anypoint Platform for a mule?

Mule basics:

What is mule flow?
What is the event processor?
How does a mule event look like?
What is a transformer, endpoint?
Introduction to Anypoint Studio
Describe the structure of new mule 4 projects and deployable archives
Debugging a mule flow
Structure of a mule event in detail
Track event data as it moves in and out of a mule application
Introduction to DataWeave 2 as mule expression language

Using the Java...

https://www.learndesk.us/class/5990135751507968/mule-4-indepth?ref=outlook-calendar
STATUS:CONFIRMED
SEQUENCE:3
BEGIN:VALARM
TRIGGER:-PT10M
DESCRIPTION:Class Reminder
ACTION:DISPLAY
END:VALARM
END:VEVENT
END:VCALENDAR