BEGIN:VCALENDAR
VERSION:2.0
CALSCALE:GREGORIAN
BEGIN:VEVENT
URL:https://www.learndesk.us/class/5943768651923456/lesson/fddc4f4d073b6f86ee397e475c66f795?ref=outlook-calendar
SUMMARY:Page Breaks
DTSTART;TZID=America/Los_Angeles:20260422T190000
DTEND;TZID=America/Los_Angeles:20260422T200000
LOCATION:https://www.learndesk.us/class/5943768651923456/lesson/fddc4f4d073b6f86ee397e475c66f795?ref=outlook-calendar
DESCRIPTION: Tired of pressing the Enter key a thousand times to make your chapter start on a new page? (And never mind what happens when you add/delete text from earlier chapters!) Now you'll be able to add page breaks with ease, and even better, you'll learn when to use simple Page Breaks vs. the more useful Section Break - Next Page breaks.

https://www.learndesk.us/class/5943768651923456/lesson/fddc4f4d073b6f86ee397e475c66f795?ref=outlook-calendar
STATUS:CONFIRMED
SEQUENCE:3
BEGIN:VALARM
TRIGGER:-PT10M
DESCRIPTION:Class Reminder
ACTION:DISPLAY
END:VALARM
END:VEVENT
END:VCALENDAR