BEGIN:VCALENDAR
VERSION:2.0
CALSCALE:GREGORIAN
BEGIN:VEVENT
URL:https://www.learndesk.us/class/5943768651923456/lesson/f559fb7f494d841d75e8cb96840cf250?ref=outlook-calendar
SUMMARY:Keyboard Shortcuts
DTSTART;TZID=America/Los_Angeles:20260422T190000
DTEND;TZID=America/Los_Angeles:20260422T200000
LOCATION:https://www.learndesk.us/class/5943768651923456/lesson/f559fb7f494d841d75e8cb96840cf250?ref=outlook-calendar
DESCRIPTION: A downloadable list of all the awesome shortcuts to save you time while typing your masterpiece!

https://www.learndesk.us/class/5943768651923456/lesson/f559fb7f494d841d75e8cb96840cf250?ref=outlook-calendar
STATUS:CONFIRMED
SEQUENCE:3
BEGIN:VALARM
TRIGGER:-PT10M
DESCRIPTION:Class Reminder
ACTION:DISPLAY
END:VALARM
END:VEVENT
END:VCALENDAR