BEGIN:VCALENDAR
VERSION:2.0
CALSCALE:GREGORIAN
BEGIN:VEVENT
URL:https://www.learndesk.us/class/5943768651923456/lesson/f29346e6a83aa666fc6d17f5fcb1bad6?ref=outlook-calendar
SUMMARY:Readability Statistics
DTSTART;TZID=America/Los_Angeles:20260422T190000
DTEND;TZID=America/Los_Angeles:20260422T200000
LOCATION:https://www.learndesk.us/class/5943768651923456/lesson/f29346e6a83aa666fc6d17f5fcb1bad6?ref=outlook-calendar
DESCRIPTION: The Sprint phone tech never once asked, "Are you able to discern that of which I am presently speaking?"
Turn on this little hidden gem in the Proofing Options, and let the Flesch Kincaid Readability and Ease scores help you understand whether your audience has a clue what you're writing about.
"Can you hear me now?"

https://www.learndesk.us/class/5943768651923456/lesson/f29346e6a83aa666fc6d17f5fcb1bad6?ref=outlook-calendar
STATUS:CONFIRMED
SEQUENCE:3
BEGIN:VALARM
TRIGGER:-PT10M
DESCRIPTION:Class Reminder
ACTION:DISPLAY
END:VALARM
END:VEVENT
END:VCALENDAR