BEGIN:VCALENDAR
VERSION:2.0
CALSCALE:GREGORIAN
BEGIN:VEVENT
URL:https://www.learndesk.us/class/5943768651923456/lesson/f1886a279d7685e52b63cbc2e337591a?ref=outlook-calendar
SUMMARY:Drop Caps
DTSTART;TZID=America/Los_Angeles:20260422T190000
DTEND;TZID=America/Los_Angeles:20260422T200000
LOCATION:https://www.learndesk.us/class/5943768651923456/lesson/f1886a279d7685e52b63cbc2e337591a?ref=outlook-calendar
DESCRIPTION: Like window dressing for your book, just seeing these drop-caps applied to the opening line of your chapters will motivate you to want to share it with your fans!

https://www.learndesk.us/class/5943768651923456/lesson/f1886a279d7685e52b63cbc2e337591a?ref=outlook-calendar
STATUS:CONFIRMED
SEQUENCE:3
BEGIN:VALARM
TRIGGER:-PT10M
DESCRIPTION:Class Reminder
ACTION:DISPLAY
END:VALARM
END:VEVENT
END:VCALENDAR