BEGIN:VCALENDAR
VERSION:2.0
CALSCALE:GREGORIAN
BEGIN:VEVENT
URL:https://www.learndesk.us/class/5943768651923456/lesson/f108a4688dd5abeb099669d0c6934eee?ref=outlook-calendar
SUMMARY:Find / Replace
DTSTART;TZID=America/Los_Angeles:20260422T190000
DTEND;TZID=America/Los_Angeles:20260422T200000
LOCATION:https://www.learndesk.us/class/5943768651923456/lesson/f108a4688dd5abeb099669d0c6934eee?ref=outlook-calendar
DESCRIPTION: You may not ever get back the weekend you lost binge-watching TV, but this one tool will save you mega hours from deleting extra line-breaks between paragraphs, removing unnecessary tabs, or replacing two spaces between sentences with just one.
Never mind how awesome it is to quickly correct your most commonly misspelled words, or to change character names throughout your document - just be wary of replacing short words that may appear as part of a longer word... (like my friend who changed her character Joy's name to Samantha, and then throughout the manuscript, folks were enSamantha-ing their cocktails!)

https://www.learndesk.us/class/5943768651923456/lesson/f108a4688dd5abeb099669d0c6934eee?ref=outlook-calendar
STATUS:CONFIRMED
SEQUENCE:3
BEGIN:VALARM
TRIGGER:-PT10M
DESCRIPTION:Class Reminder
ACTION:DISPLAY
END:VALARM
END:VEVENT
END:VCALENDAR