BEGIN:VCALENDAR
VERSION:2.0
CALSCALE:GREGORIAN
BEGIN:VEVENT
URL:https://www.learndesk.us/class/5943768651923456/lesson/e3bb3eb57e7582e4f35edec860c36ff7?ref=outlook-calendar
SUMMARY:Footnotes and Endnotes
DTSTART;TZID=America/Los_Angeles:20260422T190000
DTEND;TZID=America/Los_Angeles:20260422T200000
LOCATION:https://www.learndesk.us/class/5943768651923456/lesson/e3bb3eb57e7582e4f35edec860c36ff7?ref=outlook-calendar
DESCRIPTION: No more cursing and ranting when it's time to add a footnote or endnote, because you don't know how to get the text to flow around at the bottom of the page. Just click the "Insert Footnote" button and MS Word will automatically number and format your notes (and update those numbers automatically if you later add more notes!).
Change your mind about whether you need footnotes or endnotes? That's no problem, either. Easily convert ALL your notes with just one more click.

https://www.learndesk.us/class/5943768651923456/lesson/e3bb3eb57e7582e4f35edec860c36ff7?ref=outlook-calendar
STATUS:CONFIRMED
SEQUENCE:3
BEGIN:VALARM
TRIGGER:-PT10M
DESCRIPTION:Class Reminder
ACTION:DISPLAY
END:VALARM
END:VEVENT
END:VCALENDAR