BEGIN:VCALENDAR
VERSION:2.0
CALSCALE:GREGORIAN
BEGIN:VEVENT
URL:https://www.learndesk.us/class/5943768651923456/lesson/dc9334cd97fe12691eec3940deee2034?ref=outlook-calendar
SUMMARY:New "Dictate" and "Read Aloud"
DTSTART;TZID=America/Los_Angeles:20260422T190000
DTEND;TZID=America/Los_Angeles:20260422T200000
LOCATION:https://www.learndesk.us/class/5943768651923456/lesson/dc9334cd97fe12691eec3940deee2034?ref=outlook-calendar
DESCRIPTION: Man vs. Artificial Intelligence
The new "Dictate" feature is FREE and surprisingly accurate. Watch a quick, live test in this session, then download and try it out for yourself.
The other recent addition of "Read Aloud" might be a game-changer for your revision process... just click play and MS Word turns your text into an audiobook so (after you've stared at the computer screen for 6 months) you can finally HEAR your words in a fresh new way.

https://www.learndesk.us/class/5943768651923456/lesson/dc9334cd97fe12691eec3940deee2034?ref=outlook-calendar
STATUS:CONFIRMED
SEQUENCE:3
BEGIN:VALARM
TRIGGER:-PT10M
DESCRIPTION:Class Reminder
ACTION:DISPLAY
END:VALARM
END:VEVENT
END:VCALENDAR