BEGIN:VCALENDAR
VERSION:2.0
CALSCALE:GREGORIAN
BEGIN:VEVENT
URL:https://www.learndesk.us/class/5943768651923456/lesson/dae1979c6eb79e308b4eed909c156cff?ref=outlook-calendar
SUMMARY:Formatting Your Book for Self-Publishing
DTSTART;TZID=America/Los_Angeles:20260422T190000
DTEND;TZID=America/Los_Angeles:20260422T200000
LOCATION:https://www.learndesk.us/class/5943768651923456/lesson/dae1979c6eb79e308b4eed909c156cff?ref=outlook-calendar
DESCRIPTION: There are entire (pricey!) video courses out there devoted to this topic, but I wanted to help you tie together all the great new tools you've been learning -- so you can now publish your novel and finally start building your tribe of raving fans.
Feel free to pause the video at each step while you implement the formatting, then come back for more.
If you're building an indie-author career, this one set of skills will save you $150-1000 PER BOOK.

https://www.learndesk.us/class/5943768651923456/lesson/dae1979c6eb79e308b4eed909c156cff?ref=outlook-calendar
STATUS:CONFIRMED
SEQUENCE:3
BEGIN:VALARM
TRIGGER:-PT10M
DESCRIPTION:Class Reminder
ACTION:DISPLAY
END:VALARM
END:VEVENT
END:VCALENDAR