BEGIN:VCALENDAR
VERSION:2.0
CALSCALE:GREGORIAN
BEGIN:VEVENT
URL:https://www.learndesk.us/class/5943768651923456/lesson/c8e6418ca2b3565629c86fcd7e64b7b9?ref=outlook-calendar
SUMMARY:Spell-check and Grammar-check
DTSTART;TZID=America/Los_Angeles:20260422T190000
DTEND;TZID=America/Los_Angeles:20260422T200000
LOCATION:https://www.learndesk.us/class/5943768651923456/lesson/c8e6418ca2b3565629c86fcd7e64b7b9?ref=outlook-calendar
DESCRIPTION: Time to stop spending extra moolah for Grammarly... it's already built into your MS Word proofing options!
What? Not using ANY pre-editing hacks? Then it's time to learn how you can quickly do more than just proofreading!

https://www.learndesk.us/class/5943768651923456/lesson/c8e6418ca2b3565629c86fcd7e64b7b9?ref=outlook-calendar
STATUS:CONFIRMED
SEQUENCE:3
BEGIN:VALARM
TRIGGER:-PT10M
DESCRIPTION:Class Reminder
ACTION:DISPLAY
END:VALARM
END:VEVENT
END:VCALENDAR