BEGIN:VCALENDAR
VERSION:2.0
CALSCALE:GREGORIAN
BEGIN:VEVENT
URL:https://www.learndesk.us/class/5943768651923456/lesson/c218308682f27dfba4170910bd28c2e2?ref=outlook-calendar
SUMMARY:Intermediate Skills You Wish You'd Known Before You Started Writing Your Book
DTSTART;TZID=America/Los_Angeles:20260422T190000
DTEND;TZID=America/Los_Angeles:20260422T200000
LOCATION:https://www.learndesk.us/class/5943768651923456/lesson/c218308682f27dfba4170910bd28c2e2?ref=outlook-calendar
DESCRIPTION: https://www.learndesk.us/class/5943768651923456/lesson/c218308682f27dfba4170910bd28c2e2?ref=outlook-calendar
STATUS:CONFIRMED
SEQUENCE:3
BEGIN:VALARM
TRIGGER:-PT10M
DESCRIPTION:Class Reminder
ACTION:DISPLAY
END:VALARM
END:VEVENT
END:VCALENDAR