BEGIN:VCALENDAR
VERSION:2.0
CALSCALE:GREGORIAN
BEGIN:VEVENT
URL:https://www.learndesk.us/class/5943768651923456/lesson/bff52bdbb0b5adfaabcdbc149917103b?ref=outlook-calendar
SUMMARY:Index
DTSTART;TZID=America/Los_Angeles:20260422T190000
DTEND;TZID=America/Los_Angeles:20260422T200000
LOCATION:https://www.learndesk.us/class/5943768651923456/lesson/bff52bdbb0b5adfaabcdbc149917103b?ref=outlook-calendar
DESCRIPTION: I used to quake in my leather boots when an author wanted to add an Index to their book. Now, MS Word's indexing makes it easy to mark entries, add the index itself, and even update the page numbers if revisions are needed.

https://www.learndesk.us/class/5943768651923456/lesson/bff52bdbb0b5adfaabcdbc149917103b?ref=outlook-calendar
STATUS:CONFIRMED
SEQUENCE:3
BEGIN:VALARM
TRIGGER:-PT10M
DESCRIPTION:Class Reminder
ACTION:DISPLAY
END:VALARM
END:VEVENT
END:VCALENDAR