BEGIN:VCALENDAR
VERSION:2.0
CALSCALE:GREGORIAN
BEGIN:VEVENT
URL:https://www.learndesk.us/class/5943768651923456/lesson/ba17d9cdfcd452bd8716e620fadb61dd?ref=outlook-calendar
SUMMARY:Insert Symbols / Pictures / Icons / Links
DTSTART;TZID=America/Los_Angeles:20260422T190000
DTEND;TZID=America/Los_Angeles:20260422T200000
LOCATION:https://www.learndesk.us/class/5943768651923456/lesson/ba17d9cdfcd452bd8716e620fadb61dd?ref=outlook-calendar
DESCRIPTION: Quickly add letters with accent markings, foreign currency symbols, Greek and Cyrillic characters, mathematical operators and more (including the hyphen, en-dash, and em-dash).
Add images to your document -- complete with frames or shadow/glow/reflection effects -- and train the text to automatically re-flow around them!
Help your readers quickly locate source information by adding hyperlinks to your text -- so they can click right through (and you won't need to struggle with how to properly cite them on your blog!)
Or maybe you're an emoji-addict and can't imagine writing a blog without smiley faces... no problem, just use the new "Insert Icons" feature.

https://www.learndesk.us/class/5943768651923456/lesson/ba17d9cdfcd452bd8716e620fadb61dd?ref=outlook-calendar
STATUS:CONFIRMED
SEQUENCE:3
BEGIN:VALARM
TRIGGER:-PT10M
DESCRIPTION:Class Reminder
ACTION:DISPLAY
END:VALARM
END:VEVENT
END:VCALENDAR