BEGIN:VCALENDAR
VERSION:2.0
CALSCALE:GREGORIAN
BEGIN:VEVENT
URL:https://www.learndesk.us/class/5943768651923456/lesson/b1a5d75d47bc4fd0154f2ab160970629?ref=outlook-calendar
SUMMARY:Citations and Bibliographies
DTSTART;TZID=America/Los_Angeles:20260422T190000
DTEND;TZID=America/Los_Angeles:20260422T200000
LOCATION:https://www.learndesk.us/class/5943768651923456/lesson/b1a5d75d47bc4fd0154f2ab160970629?ref=outlook-calendar
DESCRIPTION: Citations and bibliographies were the bane of our existence in the old days. I remember stacks of index cards alongside my dog-eared Chicago Style Manual (later abandoned for Kate Turabian, soon to be followed by MLA)... and still, I struggled with where to put the punctuation.
Now... just fill in an intuitive form, and click a button. MS Word will automatically format your citation or bibliographic entry to the whims of your industry's favorite style manual. Even better? Just one more click will convert it between style manuals if you need to submit to another publisher with different preferences.

https://www.learndesk.us/class/5943768651923456/lesson/b1a5d75d47bc4fd0154f2ab160970629?ref=outlook-calendar
STATUS:CONFIRMED
SEQUENCE:3
BEGIN:VALARM
TRIGGER:-PT10M
DESCRIPTION:Class Reminder
ACTION:DISPLAY
END:VALARM
END:VEVENT
END:VCALENDAR