BEGIN:VCALENDAR
VERSION:2.0
CALSCALE:GREGORIAN
BEGIN:VEVENT
URL:https://www.learndesk.us/class/5943768651923456/lesson/aee8984e3e7d9d9c721b4cc70468edfe?ref=outlook-calendar
SUMMARY:Versions of MS Word
DTSTART;TZID=America/Los_Angeles:20260422T190000
DTEND;TZID=America/Los_Angeles:20260422T200000
LOCATION:https://www.learndesk.us/class/5943768651923456/lesson/aee8984e3e7d9d9c721b4cc70468edfe?ref=outlook-calendar
DESCRIPTION: While this course is filmed in the newest version of MS Word, almost all of the tools demonstrated have been available in every version of the program since 2003. If you see a particularly awesome skill, but can't find the button or menu item to access it in your version, a quick internet search for "NAME THE SKILL in MS Word 20##" and chances are great that someone else has put up a YouTube video of exactly how to do it.

https://www.learndesk.us/class/5943768651923456/lesson/aee8984e3e7d9d9c721b4cc70468edfe?ref=outlook-calendar
STATUS:CONFIRMED
SEQUENCE:3
BEGIN:VALARM
TRIGGER:-PT10M
DESCRIPTION:Class Reminder
ACTION:DISPLAY
END:VALARM
END:VEVENT
END:VCALENDAR