BEGIN:VCALENDAR
VERSION:2.0
CALSCALE:GREGORIAN
BEGIN:VEVENT
URL:https://www.learndesk.us/class/5943768651923456/lesson/8a70f3d7738ff5e7b7c6c645b32469a4?ref=outlook-calendar
SUMMARY:Synonyms (in English AND Translation!)
DTSTART;TZID=America/Los_Angeles:20260422T190000
DTEND;TZID=America/Los_Angeles:20260422T200000
LOCATION:https://www.learndesk.us/class/5943768651923456/lesson/8a70f3d7738ff5e7b7c6c645b32469a4?ref=outlook-calendar
DESCRIPTION: No more excuses for staring at your screen trying to figure out a better word for "walked" - just right-click and have "ambled," "limped," or "careened" at your fingertips. Or use this feature to translate words, sentences, or entire documents into a myriad of other languages.

https://www.learndesk.us/class/5943768651923456/lesson/8a70f3d7738ff5e7b7c6c645b32469a4?ref=outlook-calendar
STATUS:CONFIRMED
SEQUENCE:3
BEGIN:VALARM
TRIGGER:-PT10M
DESCRIPTION:Class Reminder
ACTION:DISPLAY
END:VALARM
END:VEVENT
END:VCALENDAR