BEGIN:VCALENDAR
VERSION:2.0
CALSCALE:GREGORIAN
BEGIN:VEVENT
URL:https://www.learndesk.us/class/5943768651923456/lesson/70abdf1cae570f93e2663636379585bf?ref=outlook-calendar
SUMMARY:Formatting Your Manuscript for Agent / Editor Submission
DTSTART;TZID=America/Los_Angeles:20260422T190000
DTEND;TZID=America/Los_Angeles:20260422T200000
LOCATION:https://www.learndesk.us/class/5943768651923456/lesson/70abdf1cae570f93e2663636379585bf?ref=outlook-calendar
DESCRIPTION: Finished writing your book? Congratulations! Now it's time to find an audience.
This lesson contains simple, easy-to-follow instructions to format your finished manuscript for agent or editor submission.
Do remember to check the current year's "Writer's Market" guide in case your agent or editor has specific requests, but this will get you 95% of the way there!

https://www.learndesk.us/class/5943768651923456/lesson/70abdf1cae570f93e2663636379585bf?ref=outlook-calendar
STATUS:CONFIRMED
SEQUENCE:3
BEGIN:VALARM
TRIGGER:-PT10M
DESCRIPTION:Class Reminder
ACTION:DISPLAY
END:VALARM
END:VEVENT
END:VCALENDAR