BEGIN:VCALENDAR
VERSION:2.0
CALSCALE:GREGORIAN
BEGIN:VEVENT
URL:https://www.learndesk.us/class/5943768651923456/lesson/6c9caba174b4a972434f4f5772672dac?ref=outlook-calendar
SUMMARY:Styles and Navigation Panel
DTSTART;TZID=America/Los_Angeles:20260422T190000
DTEND;TZID=America/Los_Angeles:20260422T200000
LOCATION:https://www.learndesk.us/class/5943768651923456/lesson/6c9caba174b4a972434f4f5772672dac?ref=outlook-calendar
DESCRIPTION: If you take away only ONE new skill from this course, make this one yours.
Quickly and easily label new chapters and sub-heads, then format their font and size and characteristics (and drop-down height and line-spacing, and a bazillion other things) in just ONE place... but have it applied THROUGHOUT YOUR BOOK!
Oh, and did I mention you can do this for your main body text as well? No more click-and-drag to highlight whole chapters every time you decide to try a new font. (You can thank me later!)

https://www.learndesk.us/class/5943768651923456/lesson/6c9caba174b4a972434f4f5772672dac?ref=outlook-calendar
STATUS:CONFIRMED
SEQUENCE:3
BEGIN:VALARM
TRIGGER:-PT10M
DESCRIPTION:Class Reminder
ACTION:DISPLAY
END:VALARM
END:VEVENT
END:VCALENDAR