BEGIN:VCALENDAR
VERSION:2.0
CALSCALE:GREGORIAN
BEGIN:VEVENT
URL:https://www.learndesk.us/class/5943768651923456/lesson/67643908c3a5ebcb95388323d6718f59?ref=outlook-calendar
SUMMARY:Word Count
DTSTART;TZID=America/Los_Angeles:20260422T190000
DTEND;TZID=America/Los_Angeles:20260422T200000
LOCATION:https://www.learndesk.us/class/5943768651923456/lesson/67643908c3a5ebcb95388323d6718f59?ref=outlook-calendar
DESCRIPTION: Size matters!
Two quick and easy ways to locate your current word count (and section totals), along with word count tips for writing in various genres.

https://www.learndesk.us/class/5943768651923456/lesson/67643908c3a5ebcb95388323d6718f59?ref=outlook-calendar
STATUS:CONFIRMED
SEQUENCE:3
BEGIN:VALARM
TRIGGER:-PT10M
DESCRIPTION:Class Reminder
ACTION:DISPLAY
END:VALARM
END:VEVENT
END:VCALENDAR