BEGIN:VCALENDAR
VERSION:2.0
CALSCALE:GREGORIAN
BEGIN:VEVENT
URL:https://www.learndesk.us/class/5943768651923456/lesson/658b51fd4ae6754a8565b10352190ad6?ref=outlook-calendar
SUMMARY:Page Characteristics
DTSTART;TZID=America/Los_Angeles:20260422T190000
DTEND;TZID=America/Los_Angeles:20260422T200000
LOCATION:https://www.learndesk.us/class/5943768651923456/lesson/658b51fd4ae6754a8565b10352190ad6?ref=outlook-calendar
DESCRIPTION: Page dimensions - because books aren't usually printed on 8.5" x 11" paper!
Margins - including how to format so your text doesn't get lost in the spine of the book.
Columns - when you need 'em, you need 'em.
Page Breaks vs. Section Breaks (but more detailed in Lesson 12!)
Adding line numbers (hello, poetry!)

https://www.learndesk.us/class/5943768651923456/lesson/658b51fd4ae6754a8565b10352190ad6?ref=outlook-calendar
STATUS:CONFIRMED
SEQUENCE:3
BEGIN:VALARM
TRIGGER:-PT10M
DESCRIPTION:Class Reminder
ACTION:DISPLAY
END:VALARM
END:VEVENT
END:VCALENDAR