BEGIN:VCALENDAR
VERSION:2.0
CALSCALE:GREGORIAN
BEGIN:VEVENT
URL:https://www.learndesk.us/class/5943768651923456/lesson/524ab662ce41b707ed4439e81a1af984?ref=outlook-calendar
SUMMARY:Save Your Work
DTSTART;TZID=America/Los_Angeles:20260422T190000
DTEND;TZID=America/Los_Angeles:20260422T200000
LOCATION:https://www.learndesk.us/class/5943768651923456/lesson/524ab662ce41b707ed4439e81a1af984?ref=outlook-calendar
DESCRIPTION: There's nothing worse than writing the BEST SCENE EVER, and then discovering you can't remember where you saved it on your computer.
Okay, maybe accidentally deleting that scene would be worse, but after this lesson, you won't do that either!

https://www.learndesk.us/class/5943768651923456/lesson/524ab662ce41b707ed4439e81a1af984?ref=outlook-calendar
STATUS:CONFIRMED
SEQUENCE:3
BEGIN:VALARM
TRIGGER:-PT10M
DESCRIPTION:Class Reminder
ACTION:DISPLAY
END:VALARM
END:VEVENT
END:VCALENDAR