BEGIN:VCALENDAR
VERSION:2.0
CALSCALE:GREGORIAN
BEGIN:VEVENT
URL:https://www.learndesk.us/class/5943768651923456/lesson/50bbcf6872e6499f8f834fd1186fb074?ref=outlook-calendar
SUMMARY:Table of Contents
DTSTART;TZID=America/Los_Angeles:20260422T190000
DTEND;TZID=America/Los_Angeles:20260422T200000
LOCATION:https://www.learndesk.us/class/5943768651923456/lesson/50bbcf6872e6499f8f834fd1186fb074?ref=outlook-calendar
DESCRIPTION: More love for the Styles settings...
Once you've enabled your chapter headings and sub-heads, just pop to the beginning of your document and add a full Table of Contents with one click -- with auto-formatted page numbers... or even hyperlinks if you're creating an eBook!

https://www.learndesk.us/class/5943768651923456/lesson/50bbcf6872e6499f8f834fd1186fb074?ref=outlook-calendar
STATUS:CONFIRMED
SEQUENCE:3
BEGIN:VALARM
TRIGGER:-PT10M
DESCRIPTION:Class Reminder
ACTION:DISPLAY
END:VALARM
END:VEVENT
END:VCALENDAR