BEGIN:VCALENDAR
VERSION:2.0
CALSCALE:GREGORIAN
BEGIN:VEVENT
URL:https://www.learndesk.us/class/5943768651923456/lesson/3f74b578d03c8e0f61a012300af5e1a4?ref=outlook-calendar
SUMMARY:Paragraph Characteristics
DTSTART;TZID=America/Los_Angeles:20260422T190000
DTEND;TZID=America/Los_Angeles:20260422T200000
LOCATION:https://www.learndesk.us/class/5943768651923456/lesson/3f74b578d03c8e0f61a012300af5e1a4?ref=outlook-calendar
DESCRIPTION: Alignment - left, center, right, and fully justified
Line and paragraph spacing
* first-line indent
* line spacing
* adding extra space between paragraphs for non-fiction
* changing the Default settings for ALL YOUR FUTURE DOCUMENTS!
Shading and borders
Bulleted and numbered lists
Increasing indent
A-to-Z alphabetical sorting of lists
Show/hide tool - so you can finally figure out what's going on when MS Word isn't doing what you expect!

https://www.learndesk.us/class/5943768651923456/lesson/3f74b578d03c8e0f61a012300af5e1a4?ref=outlook-calendar
STATUS:CONFIRMED
SEQUENCE:3
BEGIN:VALARM
TRIGGER:-PT10M
DESCRIPTION:Class Reminder
ACTION:DISPLAY
END:VALARM
END:VEVENT
END:VCALENDAR