BEGIN:VCALENDAR
VERSION:2.0
CALSCALE:GREGORIAN
BEGIN:VEVENT
URL:https://www.learndesk.us/class/5943768651923456/lesson/34217385601694bd1736213b463102a2?ref=outlook-calendar
SUMMARY:Track Changes
DTSTART;TZID=America/Los_Angeles:20260422T190000
DTEND;TZID=America/Los_Angeles:20260422T200000
LOCATION:https://www.learndesk.us/class/5943768651923456/lesson/34217385601694bd1736213b463102a2?ref=outlook-calendar
DESCRIPTION: The days of the red pen are long gone, but my first-time author friends who receive their first edit back in Track Changes often wish they could teleport back to high school days.
However, once you really get the hang of MS Word's most powerful editing tool, you'll never want to go back. Easily accept and reject suggested changes, scroll through (and resolve or delete) editing comments, or integrate suggestions from multiple beta-readers, all without shuffling hundreds of loose sheets of paper, or losing your mind.
Ready for your close up, my dear author friend? It's time to make every word choice in your manuscript sparkle!

https://www.learndesk.us/class/5943768651923456/lesson/34217385601694bd1736213b463102a2?ref=outlook-calendar
STATUS:CONFIRMED
SEQUENCE:3
BEGIN:VALARM
TRIGGER:-PT10M
DESCRIPTION:Class Reminder
ACTION:DISPLAY
END:VALARM
END:VEVENT
END:VCALENDAR