BEGIN:VCALENDAR
VERSION:2.0
CALSCALE:GREGORIAN
BEGIN:VEVENT
URL:https://www.learndesk.us/class/5943768651923456/lesson/328150b7b4956815ed2836e5e35348ce?ref=outlook-calendar
SUMMARY:Help! I've Lost My Toolbar and I Can't Get Up!
DTSTART;TZID=America/Los_Angeles:20260422T190000
DTEND;TZID=America/Los_Angeles:20260422T200000
LOCATION:https://www.learndesk.us/class/5943768651923456/lesson/328150b7b4956815ed2836e5e35348ce?ref=outlook-calendar
DESCRIPTION: You will NEVER need this knowledge. Until you do. And then you REALLY need it, and you need it NOW!

https://www.learndesk.us/class/5943768651923456/lesson/328150b7b4956815ed2836e5e35348ce?ref=outlook-calendar
STATUS:CONFIRMED
SEQUENCE:3
BEGIN:VALARM
TRIGGER:-PT10M
DESCRIPTION:Class Reminder
ACTION:DISPLAY
END:VALARM
END:VEVENT
END:VCALENDAR