BEGIN:VCALENDAR
VERSION:2.0
CALSCALE:GREGORIAN
BEGIN:VEVENT
URL:https://www.learndesk.us/class/5943768651923456/lesson/2eb23249c4c5374b1ea6636d6f4193b4?ref=outlook-calendar
SUMMARY:Get a Bigger Clipboard! Cut / Copy / Paste / Format Painter
DTSTART;TZID=America/Los_Angeles:20260422T190000
DTEND;TZID=America/Los_Angeles:20260422T200000
LOCATION:https://www.learndesk.us/class/5943768651923456/lesson/2eb23249c4c5374b1ea6636d6f4193b4?ref=outlook-calendar
DESCRIPTION: Move text throughout your document.
Paste clips you made earlier -- even before your most recent cut/copy!
Use format painter to save hours when applying similar font characteristics throughout your document.

https://www.learndesk.us/class/5943768651923456/lesson/2eb23249c4c5374b1ea6636d6f4193b4?ref=outlook-calendar
STATUS:CONFIRMED
SEQUENCE:3
BEGIN:VALARM
TRIGGER:-PT10M
DESCRIPTION:Class Reminder
ACTION:DISPLAY
END:VALARM
END:VEVENT
END:VCALENDAR